BEGIN:VCALENDAR
VERSION:2.0
PRODID:-//Sabre//Sabre VObject 4.5.8//EN
CALSCALE:GREGORIAN
BEGIN:VEVENT
UID:sabre-vobject-0c48399f-db6c-483b-9cbd-d09076c45b21
DTSTAMP:20260420T085912Z
SUMMARY:Rosenkranz
DESCRIPTION:https://niederraunau.bistum-augsburg-portal.de/rosenkranz_id173
 6536
DTSTART;TZID=Europe/Berlin:20260422T173000
DURATION:PT30M
LOCATION:Hlgst. Dreifaltigkeit
END:VEVENT
END:VCALENDAR
