BEGIN:VCALENDAR
VERSION:2.0
PRODID:-//Sabre//Sabre VObject 4.5.8//EN
CALSCALE:GREGORIAN
BEGIN:VEVENT
UID:sabre-vobject-89634e85-4db3-4488-a1d1-11e4d4ee8d51
DTSTAMP:20260422T085702Z
SUMMARY:Heilige Messe
DESCRIPTION:https://niederraunau.bistum-augsburg-portal.de/heilige-messe_id
 1736530
DTSTART;TZID=Europe/Berlin:20260419T084500
DURATION:PT30M
LOCATION:Hlgst. Dreifaltigkeit
END:VEVENT
END:VCALENDAR
